BEGIN:VCALENDAR
VERSION:2.0
PRODID:-//Tukios.com/
BEGIN:VEVENT
UID:eb4a6db9-8b5d-447a-ad06-b00542feb8b9@www.probstfamilyfunerals.com
DTSTAMP:20260422T031332Z
DTSTART:20260425T190000Z
DTEND:20260425T193000Z
SUMMARY:Interment
DESCRIPTION:
URL:https://www.probstfamilyfunerals.com/obituaries/sharon-wright
LOCATION: 680 North 550 East  Heber City UT 84032
GEO:40.5156128;-111.4010159
END:VEVENT
END:VCALENDAR