BEGIN:VCALENDAR
VERSION:2.0
PRODID:-//Tukios.com/
BEGIN:VEVENT
UID:199e6765-c6c4-4ffa-a38d-ae5bea4eb38d@www.probstfamilyfunerals.com
DTSTAMP:20260422T031453Z
DTSTART:20260425T170000Z
DTEND:20260425T180000Z
SUMMARY:Funeral Service
DESCRIPTION:
URL:https://www.probstfamilyfunerals.com/obituaries/sharon-wright
LOCATION:Olympus Stake Center 2675 East 4430 South  Holladay UT 84124
GEO:40.6758128;-111.8157939
END:VEVENT
END:VCALENDAR