BEGIN:VCALENDAR
VERSION:2.0
PRODID:-//Tukios.com/
BEGIN:VEVENT
UID:a4e49b56-5fef-45ad-a16b-c12dd49239c5@www.probstfamilyfunerals.com
DTSTAMP:20260422T031759Z
DTSTART:20260425T160000Z
DTEND:20260425T164500Z
SUMMARY:Viewing
DESCRIPTION:
URL:https://www.probstfamilyfunerals.com/obituaries/sharon-wright
LOCATION:Olympus Stake Center 2675 East 4430 South  Holladay UT 84124
GEO:40.6758128;-111.8157939
END:VEVENT
END:VCALENDAR